BEGIN:VCALENDAR
VERSION:2.0
PRODID:-//Summit Station Dairy - ECPv6.15.13.1//NONSGML v1.0//EN
CALSCALE:GREGORIAN
METHOD:PUBLISH
X-ORIGINAL-URL:https://summitstationdairy.com
X-WR-CALDESC:Events for Summit Station Dairy
REFRESH-INTERVAL;VALUE=DURATION:PT1H
X-Robots-Tag:noindex
X-PUBLISHED-TTL:PT1H
BEGIN:VTIMEZONE
TZID:America/Toronto
BEGIN:DAYLIGHT
TZOFFSETFROM:-0500
TZOFFSETTO:-0400
TZNAME:EDT
DTSTART:20240310T070000
END:DAYLIGHT
BEGIN:STANDARD
TZOFFSETFROM:-0400
TZOFFSETTO:-0500
TZNAME:EST
DTSTART:20241103T060000
END:STANDARD
BEGIN:DAYLIGHT
TZOFFSETFROM:-0500
TZOFFSETTO:-0400
TZNAME:EDT
DTSTART:20250309T070000
END:DAYLIGHT
BEGIN:STANDARD
TZOFFSETFROM:-0400
TZOFFSETTO:-0500
TZNAME:EST
DTSTART:20251102T060000
END:STANDARD
BEGIN:DAYLIGHT
TZOFFSETFROM:-0500
TZOFFSETTO:-0400
TZNAME:EDT
DTSTART:20260308T070000
END:DAYLIGHT
BEGIN:STANDARD
TZOFFSETFROM:-0400
TZOFFSETTO:-0500
TZNAME:EST
DTSTART:20261101T060000
END:STANDARD
END:VTIMEZONE
BEGIN:VEVENT
DTSTART;VALUE=DATE:20251013
DTEND;VALUE=DATE:20251014
DTSTAMP:20260425T231459
CREATED:20250807T203538Z
LAST-MODIFIED:20250807T203540Z
UID:6931-1760313600-1760399999@summitstationdairy.com
SUMMARY:Closed Thanksgiving Monday
DESCRIPTION:Please note that Summit Station is closed on Thanksgiving Monday. \nHappy Turkey Day!
URL:https://summitstationdairy.com/event/closed-thanksgiving-monday/
LOCATION:Ontario
CATEGORIES:Notifications
ATTACH;FMTTYPE=image/png:https://summitstationdairy.com/wp-content/uploads/2024/08/closed-for-holiday-e1724528345898.png
END:VEVENT
END:VCALENDAR