BEGIN:VCALENDAR
VERSION:2.0
PRODID:-//Summit Station Dairy - ECPv6.15.13.1//NONSGML v1.0//EN
CALSCALE:GREGORIAN
METHOD:PUBLISH
X-ORIGINAL-URL:https://summitstationdairy.com
X-WR-CALDESC:Events for Summit Station Dairy
REFRESH-INTERVAL;VALUE=DURATION:PT1H
X-Robots-Tag:noindex
X-PUBLISHED-TTL:PT1H
BEGIN:VTIMEZONE
TZID:America/Toronto
BEGIN:DAYLIGHT
TZOFFSETFROM:-0500
TZOFFSETTO:-0400
TZNAME:EDT
DTSTART:20240310T070000
END:DAYLIGHT
BEGIN:STANDARD
TZOFFSETFROM:-0400
TZOFFSETTO:-0500
TZNAME:EST
DTSTART:20241103T060000
END:STANDARD
BEGIN:DAYLIGHT
TZOFFSETFROM:-0500
TZOFFSETTO:-0400
TZNAME:EDT
DTSTART:20250309T070000
END:DAYLIGHT
BEGIN:STANDARD
TZOFFSETFROM:-0400
TZOFFSETTO:-0500
TZNAME:EST
DTSTART:20251102T060000
END:STANDARD
BEGIN:DAYLIGHT
TZOFFSETFROM:-0500
TZOFFSETTO:-0400
TZNAME:EDT
DTSTART:20260308T070000
END:DAYLIGHT
BEGIN:STANDARD
TZOFFSETFROM:-0400
TZOFFSETTO:-0500
TZNAME:EST
DTSTART:20261101T060000
END:STANDARD
END:VTIMEZONE
BEGIN:VEVENT
DTSTART;TZID=America/Toronto:20251227T120000
DTEND;TZID=America/Toronto:20251227T160000
DTSTAMP:20260425T194651
CREATED:20250910T170955Z
LAST-MODIFIED:20251201T173834Z
UID:7476-1766836800-1766851200@summitstationdairy.com
SUMMARY:Annual Dairy Farm Open House
DESCRIPTION:❄️ Annual Dairy Farm Open House ❄️\nFREE EVENT \nOn Saturday December 27 from 12PM to 4PM – we welcome you to come visit the cows at our 15th Annual Dairy Farm Open House! \nThe Wentworth County Dairy Farmers and their families will be at the Loewith Farm to show you what modern agriculture is all about. Grab a sample of poutine made with Summit Station curds\, or hot chocolate with whipped cream! \nThis is a free event — however donations of non-perishable food items for Hamilton Food Share are highly encouraged and much appreciated. \n** Please note that the Summit Station on-farm store will be open during the event\, but opening and closing times may vary from our regularly posted hours.** \n 
URL:https://summitstationdairy.com/event/annual-dairy-farm-open-house-2/
LOCATION:1391 Powerline Road West\, Summit Station Dairy & Creamery\, Lynden\, Ontario\, L0R 1T0\, Canada
CATEGORIES:Community Event,Special Event
ATTACH;FMTTYPE=image/jpeg:https://summitstationdairy.com/wp-content/uploads/2024/11/open-house-ad-2019_2-e1731103416962.jpg
ORGANIZER;CN="Summit Station Dairy":MAILTO:thefarmers@summitstationdairy.com
END:VEVENT
END:VCALENDAR