BEGIN:VCALENDAR
VERSION:2.0
PRODID:-//Summit Station Dairy - ECPv6.15.13.1//NONSGML v1.0//EN
CALSCALE:GREGORIAN
METHOD:PUBLISH
X-ORIGINAL-URL:https://summitstationdairy.com
X-WR-CALDESC:Events for Summit Station Dairy
REFRESH-INTERVAL;VALUE=DURATION:PT1H
X-Robots-Tag:noindex
X-PUBLISHED-TTL:PT1H
BEGIN:VTIMEZONE
TZID:America/Toronto
BEGIN:DAYLIGHT
TZOFFSETFROM:-0500
TZOFFSETTO:-0400
TZNAME:EDT
DTSTART:20230312T070000
END:DAYLIGHT
BEGIN:STANDARD
TZOFFSETFROM:-0400
TZOFFSETTO:-0500
TZNAME:EST
DTSTART:20231105T060000
END:STANDARD
BEGIN:DAYLIGHT
TZOFFSETFROM:-0500
TZOFFSETTO:-0400
TZNAME:EDT
DTSTART:20240310T070000
END:DAYLIGHT
BEGIN:STANDARD
TZOFFSETFROM:-0400
TZOFFSETTO:-0500
TZNAME:EST
DTSTART:20241103T060000
END:STANDARD
BEGIN:DAYLIGHT
TZOFFSETFROM:-0500
TZOFFSETTO:-0400
TZNAME:EDT
DTSTART:20250309T070000
END:DAYLIGHT
BEGIN:STANDARD
TZOFFSETFROM:-0400
TZOFFSETTO:-0500
TZNAME:EST
DTSTART:20251102T060000
END:STANDARD
END:VTIMEZONE
BEGIN:VEVENT
DTSTART;TZID=America/Toronto:20240907T080000
DTEND;TZID=America/Toronto:20240907T130000
DTSTAMP:20260420T033832
CREATED:20240824T185804Z
LAST-MODIFIED:20240824T185804Z
UID:3541-1725696000-1725714000@summitstationdairy.com
SUMMARY:Waterdown Farmers Market
DESCRIPTION:It’s Market Day in Waterdown! \nAlong with our fresh milk and curds — you’ll find over 25 vendors selling everything from fruits\, vegetables\, wine\, eggs\, bread\, pastries to artisanal crafted prepared foods. With an even mix of organic and conventional\, and free parking\, we guarantee a day out at the Market will be an enjoyable one. See you there! \nHours of Operation:  8am – 1pm \nLocation: Royal Canadian Legion – 79 Hamilton St. N. Waterdown\, ON
URL:https://summitstationdairy.com/event/waterdown-farmers-market-13/
LOCATION:Waterdown Farmers Market\, Royal Canadian Legion - 79 Hamilton St. N.\, Waterdown\, Ontario\, Canada
CATEGORIES:Community Event
ATTACH;FMTTYPE=image/png:https://summitstationdairy.com/wp-content/uploads/2024/04/images-2.png
END:VEVENT
BEGIN:VEVENT
DTSTART;TZID=America/Toronto:20240914T080000
DTEND;TZID=America/Toronto:20240914T130000
DTSTAMP:20260420T033832
CREATED:20240824T185850Z
LAST-MODIFIED:20240824T185850Z
UID:3543-1726300800-1726318800@summitstationdairy.com
SUMMARY:Waterdown Farmers Market
DESCRIPTION:It’s Market Day in Waterdown! \nAlong with our fresh milk and curds — you’ll find over 25 vendors selling everything from fruits\, vegetables\, wine\, eggs\, bread\, pastries to artisanal crafted prepared foods. With an even mix of organic and conventional\, and free parking\, we guarantee a day out at the Market will be an enjoyable one. See you there! \nHours of Operation:  8am – 1pm \nLocation: Royal Canadian Legion – 79 Hamilton St. N. Waterdown\, ON
URL:https://summitstationdairy.com/event/waterdown-farmers-market-16/
LOCATION:Waterdown Farmers Market\, Royal Canadian Legion - 79 Hamilton St. N.\, Waterdown\, Ontario\, Canada
CATEGORIES:Community Event
ATTACH;FMTTYPE=image/png:https://summitstationdairy.com/wp-content/uploads/2024/04/images-2.png
END:VEVENT
BEGIN:VEVENT
DTSTART;TZID=America/Toronto:20240914T100000
DTEND;TZID=America/Toronto:20240914T160000
DTSTAMP:20260420T033832
CREATED:20240824T190614Z
LAST-MODIFIED:20240824T191053Z
UID:3554-1726308000-1726329600@summitstationdairy.com
SUMMARY:FARM CRAWL HAMILTON
DESCRIPTION:COME EXPLORE HAMILTON’S FARM SCENE! \nFarm Crawl Hamilton is a non-profit organization run by farmers. This rain or shine event provides you with an authentic opportunity to meet the people who make your food and grow wonderful things in our city. Over 10 local farmers are part of the crawl this year – and Summit Station is pleased to be one of them! \nTickets can be purchased directly from Farm Crawl HERE: BUY FARM CRAWL TICKETS. \nAt Summit Station\, barn tours will run every half hour beginning at 10am. The last tour will leave at 3:30pm. \nNOTE: Upon arrival\, please check in at the STORE and obtain the plastic boot covers you will need to wear while in the barn.
URL:https://summitstationdairy.com/event/farm-crawl-hamilton/
LOCATION:1391 Powerline Road West\, Summit Station Dairy & Creamery\, Lynden\, Ontario\, L0R 1T0\, Canada
CATEGORIES:Community Event,Special Event
ATTACH;FMTTYPE=image/jpeg:https://summitstationdairy.com/wp-content/uploads/2024/06/Farm-Crawl-image-e1717434174493.jpeg
ORGANIZER;CN="Farm Crawl Hamilton":MAILTO:farmcrawl@gmail.com
END:VEVENT
BEGIN:VEVENT
DTSTART;VALUE=DATE:20240920
DTEND;VALUE=DATE:20240923
DTSTAMP:20260420T033832
CREATED:20240824T191921Z
LAST-MODIFIED:20240824T192113Z
UID:3557-1726790400-1727049599@summitstationdairy.com
SUMMARY:174th Ancaster Fair
DESCRIPTION:Summit Station Dairy will once again be at the Ancaster Fall Fair serving up our pints of flavoured milk and fresh\, squeaky cheese curds! \n\n\n\n\nCome visit us at the Concession Building.\nThe Ancaster Fair is located in Ancaster’s west end at the intersection of Hwy 2 and 52. \n** Note that the Hwy 52 exit at Hwy 403 will be closed. Follow detour signs **
URL:https://summitstationdairy.com/event/174th-ancaster-fair/
LOCATION:Ancaster Fairgrounds\, 630 Trinity Road South\, Ancaster\, Ontario\, L0R 1R0\, Canada
CATEGORIES:Community Event
ATTACH;FMTTYPE=image/png:https://summitstationdairy.com/wp-content/uploads/2024/08/Screenshot-2024-08-24-at-3.10.36 PM-e1724527258979.png
ORGANIZER;CN="Ancaster Fair":MAILTO:tammy@ancasterfair.ca
END:VEVENT
BEGIN:VEVENT
DTSTART;TZID=America/Toronto:20240928T080000
DTEND;TZID=America/Toronto:20240928T130000
DTSTAMP:20260420T033832
CREATED:20240824T185928Z
LAST-MODIFIED:20240824T185928Z
UID:3545-1727510400-1727528400@summitstationdairy.com
SUMMARY:Waterdown Farmers Market
DESCRIPTION:It’s Market Day in Waterdown! \nAlong with our fresh milk and curds — you’ll find over 25 vendors selling everything from fruits\, vegetables\, wine\, eggs\, bread\, pastries to artisanal crafted prepared foods. With an even mix of organic and conventional\, and free parking\, we guarantee a day out at the Market will be an enjoyable one. See you there! \nHours of Operation:  8am – 1pm \nLocation: Royal Canadian Legion – 79 Hamilton St. N. Waterdown\, ON
URL:https://summitstationdairy.com/event/waterdown-farmers-market-17/
LOCATION:Waterdown Farmers Market\, Royal Canadian Legion - 79 Hamilton St. N.\, Waterdown\, Ontario\, Canada
CATEGORIES:Community Event
ATTACH;FMTTYPE=image/png:https://summitstationdairy.com/wp-content/uploads/2024/04/images-2.png
END:VEVENT
BEGIN:VEVENT
DTSTART;TZID=America/Toronto:20240928T120000
DTEND;TZID=America/Toronto:20240928T150000
DTSTAMP:20260420T033832
CREATED:20240926T174344Z
LAST-MODIFIED:20240926T174344Z
UID:3830-1727524800-1727535600@summitstationdairy.com
SUMMARY:Samples at Highland Country Market
DESCRIPTION:We will be sampling our fresh milk at Highland Country Market today! \n 
URL:https://summitstationdairy.com/event/samples-at-highland-country-market/
LOCATION:Highland Country Market\, 432 Highland Road East\, Stoney Creek\, Ontario\, L8J 3G4\, Canada
CATEGORIES:Community Event
ATTACH;FMTTYPE=image/jpeg:https://summitstationdairy.com/wp-content/uploads/2024/09/FLYER-HEADER-scaled-e1727372564441.jpg
END:VEVENT
BEGIN:VEVENT
DTSTART;TZID=America/Toronto:20240929T130000
DTEND;TZID=America/Toronto:20240929T150000
DTSTAMP:20260420T033832
CREATED:20240926T173729Z
LAST-MODIFIED:20240927T143954Z
UID:3827-1727614800-1727622000@summitstationdairy.com
SUMMARY:Free Concert - Touch of Klez
DESCRIPTION:Come out to Summit Station on Sunday between 1PM and 3PM to enjoy a free outdoor concert. \nHamilton’s own Klezmer band TOUCH OF KLEZ will bring the high-energy sounds of Eastern European Jewish and gypsy music to our pavilion. Your toes will be tapping to the traditional European and American klezmer music from the early to mid-20th century\, with hints of Latin\, Arabic\, Roma and swing!  Featuring Charlotte Price (violin)\, Rick Black (soprano sax/clarinet)\, Jordan Abraham (accordion/piano)\, Greg Street (double bass). \nConsider bringing your own picnic lunch (supplemented by some of our fresh milk\, fresh curds and fresh pickles\, of course!). \n 
URL:https://summitstationdairy.com/event/free-concert-a-touch-of-klez/
LOCATION:1391 Powerline Road West\, Summit Station Dairy & Creamery\, Lynden\, Ontario\, L0R 1T0\, Canada
CATEGORIES:Community Event
ATTACH;FMTTYPE=image/jpeg:https://summitstationdairy.com/wp-content/uploads/2024/09/Touch-of-Klez-Sept-29-Ad-e1727372237158.jpg
ORGANIZER;CN="Summit Station Dairy":MAILTO:thefarmers@summitstationdairy.com
END:VEVENT
END:VCALENDAR