BEGIN:VCALENDAR
VERSION:2.0
PRODID:-//Summit Station Dairy - ECPv6.15.13.1//NONSGML v1.0//EN
CALSCALE:GREGORIAN
METHOD:PUBLISH
X-ORIGINAL-URL:https://summitstationdairy.com
X-WR-CALDESC:Events for Summit Station Dairy
REFRESH-INTERVAL;VALUE=DURATION:PT1H
X-Robots-Tag:noindex
X-PUBLISHED-TTL:PT1H
BEGIN:VTIMEZONE
TZID:America/Toronto
BEGIN:DAYLIGHT
TZOFFSETFROM:-0500
TZOFFSETTO:-0400
TZNAME:EDT
DTSTART:20230312T070000
END:DAYLIGHT
BEGIN:STANDARD
TZOFFSETFROM:-0400
TZOFFSETTO:-0500
TZNAME:EST
DTSTART:20231105T060000
END:STANDARD
BEGIN:DAYLIGHT
TZOFFSETFROM:-0500
TZOFFSETTO:-0400
TZNAME:EDT
DTSTART:20240310T070000
END:DAYLIGHT
BEGIN:STANDARD
TZOFFSETFROM:-0400
TZOFFSETTO:-0500
TZNAME:EST
DTSTART:20241103T060000
END:STANDARD
BEGIN:DAYLIGHT
TZOFFSETFROM:-0500
TZOFFSETTO:-0400
TZNAME:EDT
DTSTART:20250309T070000
END:DAYLIGHT
BEGIN:STANDARD
TZOFFSETFROM:-0400
TZOFFSETTO:-0500
TZNAME:EST
DTSTART:20251102T060000
END:STANDARD
END:VTIMEZONE
BEGIN:VEVENT
DTSTART;TZID=America/Toronto:20240701T150000
DTEND;TZID=America/Toronto:20240701T170000
DTSTAMP:20260420T093614
CREATED:20240610T185508Z
LAST-MODIFIED:20240610T185508Z
UID:2894-1719846000-1719853200@summitstationdairy.com
SUMMARY:Lynden Canada Day Parade
DESCRIPTION:🇨🇦 Celebrate Canada Day on Saturday\, July 1st\, 2024 in Lynden! 🇨🇦 \nSummit Station Dairy (Keep an eye out for Valentina 🖤) will once again be part of the colourful parade which works its way down the main street through the Lynden village\, finishing up at the Lion’s Park. \nAt Lion’s Park there will be food booths\, a variety of entertainment\, assorted activities\, and kids’ games continuing right through until dusk when the fireworks will start. \nWhile no admission is charged to the afternoon activities or the evening fireworks display\, donations are gratefully accepted at the gate to defray the expenses of the day. All proceeds are put toward community events. \nSummit Station Dairy/The Loewith Family is proud to be a Diamond Sponsor of the 2024 Lynden Canada Day!
URL:https://summitstationdairy.com/event/lynden-canada-day-parade/
LOCATION:Lynden Canada Day\, 4070 Governors Rd\, Lynden\, Ontario\, L0R 1T0\, Canada
CATEGORIES:Community Event
ATTACH;FMTTYPE=image/jpeg:https://summitstationdairy.com/wp-content/uploads/2024/06/Canada-Day-Parade-Summit-e1718045024742.jpg
ORGANIZER;CN="Lynden Canada Day":MAILTO:lynden.canada.day@gmail.com
END:VEVENT
END:VCALENDAR