BEGIN:VCALENDAR
VERSION:2.0
PRODID:-//Summit Station Dairy - ECPv6.15.13.1//NONSGML v1.0//EN
CALSCALE:GREGORIAN
METHOD:PUBLISH
X-ORIGINAL-URL:https://summitstationdairy.com
X-WR-CALDESC:Events for Summit Station Dairy
REFRESH-INTERVAL;VALUE=DURATION:PT1H
X-Robots-Tag:noindex
X-PUBLISHED-TTL:PT1H
BEGIN:VTIMEZONE
TZID:America/Toronto
BEGIN:DAYLIGHT
TZOFFSETFROM:-0500
TZOFFSETTO:-0400
TZNAME:EDT
DTSTART:20230312T070000
END:DAYLIGHT
BEGIN:STANDARD
TZOFFSETFROM:-0400
TZOFFSETTO:-0500
TZNAME:EST
DTSTART:20231105T060000
END:STANDARD
BEGIN:DAYLIGHT
TZOFFSETFROM:-0500
TZOFFSETTO:-0400
TZNAME:EDT
DTSTART:20240310T070000
END:DAYLIGHT
BEGIN:STANDARD
TZOFFSETFROM:-0400
TZOFFSETTO:-0500
TZNAME:EST
DTSTART:20241103T060000
END:STANDARD
BEGIN:DAYLIGHT
TZOFFSETFROM:-0500
TZOFFSETTO:-0400
TZNAME:EDT
DTSTART:20250309T070000
END:DAYLIGHT
BEGIN:STANDARD
TZOFFSETFROM:-0400
TZOFFSETTO:-0500
TZNAME:EST
DTSTART:20251102T060000
END:STANDARD
END:VTIMEZONE
BEGIN:VEVENT
DTSTART;TZID=America/Toronto:20240727T100000
DTEND;TZID=America/Toronto:20240727T160000
DTSTAMP:20260420T093734
CREATED:20240603T200622Z
LAST-MODIFIED:20240603T200624Z
UID:2854-1722074400-1722096000@summitstationdairy.com
SUMMARY:FARM CRAWL EVENT
DESCRIPTION:COME EXPLORE HAMILTON’S FARM SCENE! \nFarm Crawl Hamilton is a non-profit organization run by farmers. This rain or shine event provides you with an authentic opportunity to meet the people who make your food and grow wonderful things in our city. Over 10 local farmers are part of the crawl this year – and Summit Station is pleased to be one of them! Ben\, Carl and Dave will be in the barn with the cows from *11am – 4pm to greet visitors and answer questions. \nThere will be three FARM CRAWL events throughout the summer – including July 27 and September 14. \nTickets can be purchased directly from Farm Crawl HERE: BUY FARM CRAWL TICKETS. \nBen\, Carl and Dave will be in the barn all afternoon with the cows to greet visitors and answer questions. \nNOTE: We ask that ticket holders will be able to enter our dairy barn to see the cows and talk to our farmers. Upon arrival\, please check in at the STORE and obtain the plastic boot covers you will need to wear while in the barn.
URL:https://summitstationdairy.com/event/farm-crawl-event-2/
LOCATION:1391 Powerline Road West\, Summit Station Dairy & Creamery\, Lynden\, Ontario\, L0R 1T0\, Canada
CATEGORIES:Community Event
ATTACH;FMTTYPE=image/jpeg:https://summitstationdairy.com/wp-content/uploads/2024/06/Farm-Crawl-image-e1717434174493.jpeg
ORGANIZER;CN="Farm Crawl Hamilton":MAILTO:farmcrawl@gmail.com
END:VEVENT
END:VCALENDAR