BEGIN:VCALENDAR
VERSION:2.0
PRODID:-//Summit Station Dairy - ECPv6.15.13.1//NONSGML v1.0//EN
CALSCALE:GREGORIAN
METHOD:PUBLISH
X-WR-CALNAME:Summit Station Dairy
X-ORIGINAL-URL:https://summitstationdairy.com
X-WR-CALDESC:Events for Summit Station Dairy
REFRESH-INTERVAL;VALUE=DURATION:PT1H
X-Robots-Tag:noindex
X-PUBLISHED-TTL:PT1H
BEGIN:VTIMEZONE
TZID:America/Toronto
BEGIN:DAYLIGHT
TZOFFSETFROM:-0500
TZOFFSETTO:-0400
TZNAME:EDT
DTSTART:20230312T070000
END:DAYLIGHT
BEGIN:STANDARD
TZOFFSETFROM:-0400
TZOFFSETTO:-0500
TZNAME:EST
DTSTART:20231105T060000
END:STANDARD
BEGIN:DAYLIGHT
TZOFFSETFROM:-0500
TZOFFSETTO:-0400
TZNAME:EDT
DTSTART:20240310T070000
END:DAYLIGHT
BEGIN:STANDARD
TZOFFSETFROM:-0400
TZOFFSETTO:-0500
TZNAME:EST
DTSTART:20241103T060000
END:STANDARD
BEGIN:DAYLIGHT
TZOFFSETFROM:-0500
TZOFFSETTO:-0400
TZNAME:EDT
DTSTART:20250309T070000
END:DAYLIGHT
BEGIN:STANDARD
TZOFFSETFROM:-0400
TZOFFSETTO:-0500
TZNAME:EST
DTSTART:20251102T060000
END:STANDARD
END:VTIMEZONE
BEGIN:VEVENT
DTSTART;TZID=America/Toronto:20240823T180000
DTEND;TZID=America/Toronto:20240823T210000
DTSTAMP:20260420T075834
CREATED:20240820T135241Z
LAST-MODIFIED:20240820T135241Z
UID:3491-1724436000-1724446800@summitstationdairy.com
SUMMARY:FRIDAY NIGHT @ SUMMIT STATION
DESCRIPTION:EXTENDED HOURS: We’re staying open until 9PM every Friday in the summer! \nJoin us for our penultimate night of food\, music\, and community. \nStarting at 6PM\, Rock Well Music will get the party started and Hot Diggity Dawg will be onsite serving up yummy treats\, including poutine made with Summit Station Cheese Curds. \nSpecial pop-ups this Friday include Jerry’s Berries bringing their late season harvest raspberries for sale\, and Beverley Greenhouses who will be sampling their amazing M&M pickles. \n 
URL:https://summitstationdairy.com/event/friday-night-summit-station-4/
LOCATION:1391 Powerline Road West\, Summit Station Dairy & Creamery\, Lynden\, Ontario\, L0R 1T0\, Canada
CATEGORIES:Community Event
ATTACH;FMTTYPE=image/jpeg:https://summitstationdairy.com/wp-content/uploads/2024/06/20240625_211338-scaled-e1720064333531.jpg
ORGANIZER;CN="Summit Station Dairy":MAILTO:thefarmers@summitstationdairy.com
END:VEVENT
END:VCALENDAR