BEGIN:VCALENDAR
VERSION:2.0
PRODID:-//Summit Station Dairy - ECPv6.15.13.1//NONSGML v1.0//EN
CALSCALE:GREGORIAN
METHOD:PUBLISH
X-ORIGINAL-URL:https://summitstationdairy.com
X-WR-CALDESC:Events for Summit Station Dairy
REFRESH-INTERVAL;VALUE=DURATION:PT1H
X-Robots-Tag:noindex
X-PUBLISHED-TTL:PT1H
BEGIN:VTIMEZONE
TZID:America/Toronto
BEGIN:DAYLIGHT
TZOFFSETFROM:-0500
TZOFFSETTO:-0400
TZNAME:EDT
DTSTART:20230312T070000
END:DAYLIGHT
BEGIN:STANDARD
TZOFFSETFROM:-0400
TZOFFSETTO:-0500
TZNAME:EST
DTSTART:20231105T060000
END:STANDARD
BEGIN:DAYLIGHT
TZOFFSETFROM:-0500
TZOFFSETTO:-0400
TZNAME:EDT
DTSTART:20240310T070000
END:DAYLIGHT
BEGIN:STANDARD
TZOFFSETFROM:-0400
TZOFFSETTO:-0500
TZNAME:EST
DTSTART:20241103T060000
END:STANDARD
BEGIN:DAYLIGHT
TZOFFSETFROM:-0500
TZOFFSETTO:-0400
TZNAME:EDT
DTSTART:20250309T070000
END:DAYLIGHT
BEGIN:STANDARD
TZOFFSETFROM:-0400
TZOFFSETTO:-0500
TZNAME:EST
DTSTART:20251102T060000
END:STANDARD
END:VTIMEZONE
BEGIN:VEVENT
DTSTART;TZID=America/Toronto:20241019T080000
DTEND;TZID=America/Toronto:20241019T130000
DTSTAMP:20260420T045513
CREATED:20241011T153028Z
LAST-MODIFIED:20241011T154104Z
UID:3928-1729324800-1729342800@summitstationdairy.com
SUMMARY:WATERDOWN FARMERS MARKET - Last Market Day!
DESCRIPTION:It’s the Final Market Day in Waterdown! \nAlong with our fresh milk and curds — you’ll find over 25 vendors selling everything from fruits\, vegetables\, wine\, eggs\, bread\, pastries to artisanal crafted prepared foods. With an even mix of organic and conventional\, and free parking\, we guarantee a day out at the Market will be an enjoyable one. See you there! \nHours of Operation:  8am – 1pm \nLocation: Royal Canadian Legion – 79 Hamilton St. N. Waterdown\, ON
URL:https://summitstationdairy.com/event/waterdown-farmers-market-last-market-day/
LOCATION:Waterdown Farmers Market\, Royal Canadian Legion - 79 Hamilton St. N.\, Waterdown\, Ontario\, Canada
CATEGORIES:Community Event
ATTACH;FMTTYPE=image/png:https://summitstationdairy.com/wp-content/uploads/2024/04/images-2.png
END:VEVENT
END:VCALENDAR