BEGIN:VCALENDAR
VERSION:2.0
PRODID:-//Summit Station Dairy - ECPv6.15.13.1//NONSGML v1.0//EN
CALSCALE:GREGORIAN
METHOD:PUBLISH
X-WR-CALNAME:Summit Station Dairy
X-ORIGINAL-URL:https://summitstationdairy.com
X-WR-CALDESC:Events for Summit Station Dairy
REFRESH-INTERVAL;VALUE=DURATION:PT1H
X-Robots-Tag:noindex
X-PUBLISHED-TTL:PT1H
BEGIN:VTIMEZONE
TZID:America/Toronto
BEGIN:DAYLIGHT
TZOFFSETFROM:-0500
TZOFFSETTO:-0400
TZNAME:EDT
DTSTART:20230312T070000
END:DAYLIGHT
BEGIN:STANDARD
TZOFFSETFROM:-0400
TZOFFSETTO:-0500
TZNAME:EST
DTSTART:20231105T060000
END:STANDARD
BEGIN:DAYLIGHT
TZOFFSETFROM:-0500
TZOFFSETTO:-0400
TZNAME:EDT
DTSTART:20240310T070000
END:DAYLIGHT
BEGIN:STANDARD
TZOFFSETFROM:-0400
TZOFFSETTO:-0500
TZNAME:EST
DTSTART:20241103T060000
END:STANDARD
BEGIN:DAYLIGHT
TZOFFSETFROM:-0500
TZOFFSETTO:-0400
TZNAME:EDT
DTSTART:20250309T070000
END:DAYLIGHT
BEGIN:STANDARD
TZOFFSETFROM:-0400
TZOFFSETTO:-0500
TZNAME:EST
DTSTART:20251102T060000
END:STANDARD
END:VTIMEZONE
BEGIN:VEVENT
DTSTART;TZID=America/Toronto:20240802T184500
DTEND;TZID=America/Toronto:20240802T201500
DTSTAMP:20260422T041041
CREATED:20240615T161824Z
LAST-MODIFIED:20240615T161824Z
UID:2929-1722624300-1722629700@summitstationdairy.com
SUMMARY:EVENING FARM TOUR
DESCRIPTION:Join us for a summer evening tour of the farm! One of our farmers will walk you through the barns to see the cows and explain how we care for our herd. You’ll have a chance to get up close and personal with our baby calves\, and we’ll bring you into the parlour to see the milking in action. Throughout the tour try and spot our mascot\, the real-life ‘Valentina the Heart Cow’! \nThis is a walking tour lasting about 75 minutes. \nPlease dress for the weather (it can get windy) as most of the tour is outside. You will be provided boot/shoe covers that must be worn throughout the tour. \nThe tour is suitable for strollers\, walkers and wheelchairs\, but please be aware there are uneven surfaces. While we love our pets\, the cows sometimes get nervous around them – so unfortunately dogs are not allowed. \nSummitholm is an active working farm. For your safety\, as well as the safety of our staff and animals\, visitors are not allowed to wander the barns unaccompanied. Signing up for one of our guided tours is the best way to see the cows and learn about modern dairy farming. \nChildren under 2 are free.
URL:https://summitstationdairy.com/event/evening-farm-tour-5/
LOCATION:1391 Powerline Road West\, Summit Station Dairy & Creamery\, Lynden\, Ontario\, L0R 1T0\, Canada
CATEGORIES:Guided Farm Tour
ATTACH;FMTTYPE=image/jpeg:https://summitstationdairy.com/wp-content/uploads/2023/10/51488088194_1fb4d227a0_k-e1707438145975.jpg
ORGANIZER;CN="Summit Station Dairy":MAILTO:thefarmers@summitstationdairy.com
END:VEVENT
BEGIN:VEVENT
DTSTART;TZID=America/Toronto:20240803T113000
DTEND;TZID=America/Toronto:20240803T124500
DTSTAMP:20260422T041041
CREATED:20240603T180253Z
LAST-MODIFIED:20240615T153645Z
UID:2826-1722684600-1722689100@summitstationdairy.com
SUMMARY:GUIDED FARM TOUR
DESCRIPTION:Join us on a tour of the farm! One of our farmers will walk you through the barns to see the cows and explain how we care for our herd. You’ll have a chance to get up close and personal with our baby calves\, and we’ll bring you into the parlour to see the milking in action. Throughout the tour try and spot our mascot\, the real-life ‘Valentina the Heart Cow’! \nThis is a walking tour lasting about 75 minutes. \nPlease dress for the weather (cold\, wet\, etc.) as most of the tour is outside. You will be provided boot/shoe covers that must be worn throughout the tour. \nThe tour is suitable for strollers\, walkers and wheelchairs\, but please be aware there are uneven surfaces. While we love our pets\, the cows sometimes get nervous around them – so unfortunately dogs are not allowed. \nSummitholm is an active working farm. For your safety\, as well as the safety of our staff and animals\, visitors are not allowed to wander the barns unaccompanied. Signing up for one of our guided tours is the best way to see the cows and learn about modern dairy farming. \nChildren under 2 are free.
URL:https://summitstationdairy.com/event/guided-farm-tour-41/
LOCATION:1391 Powerline Road West\, Summit Station Dairy & Creamery\, Lynden\, Ontario\, L0R 1T0\, Canada
CATEGORIES:Guided Farm Tour
ATTACH;FMTTYPE=image/jpeg:https://summitstationdairy.com/wp-content/uploads/2023/11/Farm-Tour-Image-e1724525639907.jpg
ORGANIZER;CN="Summit Station Dairy":MAILTO:thefarmers@summitstationdairy.com
END:VEVENT
BEGIN:VEVENT
DTSTART;TZID=America/Toronto:20240809T184500
DTEND;TZID=America/Toronto:20240809T201500
DTSTAMP:20260422T041041
CREATED:20240724T140135Z
LAST-MODIFIED:20240724T140135Z
UID:3275-1723229100-1723234500@summitstationdairy.com
SUMMARY:EVENING FARM TOUR
DESCRIPTION:Join us on a tour of the farm! One of our farmers will walk you through the barns to see the cows and explain how we care for our herd. You’ll have a chance to get up close and personal with our baby calves\, and we’ll bring you into the parlour to see the milking in action. Throughout the tour try and spot our mascot\, the real-life ‘Valentina the Heart Cow’! \nThis is a walking tour lasting about 75 minutes. \nPlease dress for the weather (cold\, wet\, etc.) as most of the tour is outside. You will be provided boot/shoe covers that must be worn throughout the tour. \nThe tour is suitable for strollers\, walkers and wheelchairs\, but please be aware there are uneven surfaces. While we love our pets\, the cows sometimes get nervous around them – so unfortunately dogs are not allowed. \nSummitholm is an active working farm. For your safety\, as well as the safety of our staff and animals\, visitors are not allowed to wander the barns unaccompanied. Signing up for one of our guided tours is the best way to see the cows and learn about modern dairy farming. \nChildren under 2 are free.
URL:https://summitstationdairy.com/event/evening-farm-tour-9/
LOCATION:1391 Powerline Road West\, Summit Station Dairy & Creamery\, Lynden\, Ontario\, L0R 1T0\, Canada
CATEGORIES:Guided Farm Tour
ATTACH;FMTTYPE=image/jpeg:https://summitstationdairy.com/wp-content/uploads/2023/11/IMG-20231105-WA0002-e1705521206238.jpg
ORGANIZER;CN="Summit Station Dairy":MAILTO:thefarmers@summitstationdairy.com
END:VEVENT
BEGIN:VEVENT
DTSTART;TZID=America/Toronto:20240810T113000
DTEND;TZID=America/Toronto:20240810T124500
DTSTAMP:20260422T041041
CREATED:20240603T181920Z
LAST-MODIFIED:20240615T153522Z
UID:2835-1723289400-1723293900@summitstationdairy.com
SUMMARY:GUIDED FARM TOUR
DESCRIPTION:Join us on a tour of the farm! One of our farmers will walk you through the barns to see the cows and explain how we care for our herd. You’ll have a chance to get up close and personal with our baby calves\, and we’ll bring you into the parlour to see the milking in action. Throughout the tour try and spot our mascot\, the real-life ‘Valentina the Heart Cow’! \nThis is a walking tour lasting about 75 minutes. \nPlease dress for the weather (cold\, wet\, etc.) as most of the tour is outside. You will be provided boot/shoe covers that must be worn throughout the tour. \nThe tour is suitable for strollers\, walkers and wheelchairs\, but please be aware there are uneven surfaces. While we love our pets\, the cows sometimes get nervous around them – so unfortunately dogs are not allowed. \nSummitholm is an active working farm. For your safety\, as well as the safety of our staff and animals\, visitors are not allowed to wander the barns unaccompanied. Signing up for one of our guided tours is the best way to see the cows and learn about modern dairy farming. \nChildren under 2 are free.
URL:https://summitstationdairy.com/event/guided-farm-tour-44/
LOCATION:1391 Powerline Road West\, Summit Station Dairy & Creamery\, Lynden\, Ontario\, L0R 1T0\, Canada
CATEGORIES:Guided Farm Tour
ATTACH;FMTTYPE=image/jpeg:https://summitstationdairy.com/wp-content/uploads/2023/12/BenLoewith_MomandNewborn-e1705521463991.jpg
ORGANIZER;CN="Summit Station Dairy":MAILTO:thefarmers@summitstationdairy.com
END:VEVENT
BEGIN:VEVENT
DTSTART;TZID=America/Toronto:20240816T184500
DTEND;TZID=America/Toronto:20240816T201500
DTSTAMP:20260422T041041
CREATED:20240615T161942Z
LAST-MODIFIED:20240615T161942Z
UID:2932-1723833900-1723839300@summitstationdairy.com
SUMMARY:EVENING FARM TOUR
DESCRIPTION:Join us for a summer evening tour of the farm! One of our farmers will walk you through the barns to see the cows and explain how we care for our herd. You’ll have a chance to get up close and personal with our baby calves\, and we’ll bring you into the parlour to see the milking in action. Throughout the tour try and spot our mascot\, the real-life ‘Valentina the Heart Cow’! \nThis is a walking tour lasting about 75 minutes. \nPlease dress for the weather (it can get windy) as most of the tour is outside. You will be provided boot/shoe covers that must be worn throughout the tour. \nThe tour is suitable for strollers\, walkers and wheelchairs\, but please be aware there are uneven surfaces. While we love our pets\, the cows sometimes get nervous around them – so unfortunately dogs are not allowed. \nSummitholm is an active working farm. For your safety\, as well as the safety of our staff and animals\, visitors are not allowed to wander the barns unaccompanied. Signing up for one of our guided tours is the best way to see the cows and learn about modern dairy farming. \nChildren under 2 are free.
URL:https://summitstationdairy.com/event/evening-farm-tour-6/
LOCATION:1391 Powerline Road West\, Summit Station Dairy & Creamery\, Lynden\, Ontario\, L0R 1T0\, Canada
CATEGORIES:Guided Farm Tour
ATTACH;FMTTYPE=image/jpeg:https://summitstationdairy.com/wp-content/uploads/2023/10/51488088194_1fb4d227a0_k-e1707438145975.jpg
ORGANIZER;CN="Summit Station Dairy":MAILTO:thefarmers@summitstationdairy.com
END:VEVENT
BEGIN:VEVENT
DTSTART;TZID=America/Toronto:20240817T113000
DTEND;TZID=America/Toronto:20240817T124500
DTSTAMP:20260422T041041
CREATED:20240603T181619Z
LAST-MODIFIED:20240615T153457Z
UID:2832-1723894200-1723898700@summitstationdairy.com
SUMMARY:GUIDED FARM TOUR
DESCRIPTION:Join us on a tour of the farm! One of our farmers will walk you through the barns to see the cows and explain how we care for our herd. You’ll have a chance to get up close and personal with our baby calves\, and we’ll bring you into the parlour to see the milking in action. Throughout the tour try and spot our mascot\, the real-life ‘Valentina the Heart Cow’! \nThis is a walking tour lasting about 75 minutes. \nPlease dress for the weather (cold\, wet\, etc.) as most of the tour is outside. You will be provided boot/shoe covers that must be worn throughout the tour. \nThe tour is suitable for strollers\, walkers and wheelchairs\, but please be aware there are uneven surfaces. While we love our pets\, the cows sometimes get nervous around them – so unfortunately dogs are not allowed. \nSummitholm is an active working farm. For your safety\, as well as the safety of our staff and animals\, visitors are not allowed to wander the barns unaccompanied. Signing up for one of our guided tours is the best way to see the cows and learn about modern dairy farming. \nChildren under 2 are free.
URL:https://summitstationdairy.com/event/guided-farm-tour-43/
LOCATION:1391 Powerline Road West\, Summit Station Dairy & Creamery\, Lynden\, Ontario\, L0R 1T0\, Canada
CATEGORIES:Guided Farm Tour
ATTACH;FMTTYPE=image/jpeg:https://summitstationdairy.com/wp-content/uploads/2024/01/166-GRAND_OPENING_SMALL.jpg
ORGANIZER;CN="Summit Station Dairy":MAILTO:thefarmers@summitstationdairy.com
END:VEVENT
BEGIN:VEVENT
DTSTART;TZID=America/Toronto:20240823T184500
DTEND;TZID=America/Toronto:20240823T201500
DTSTAMP:20260422T041041
CREATED:20240615T162059Z
LAST-MODIFIED:20240615T162059Z
UID:2935-1724438700-1724444100@summitstationdairy.com
SUMMARY:EVENING FARM TOUR
DESCRIPTION:Join us for a summer evening tour of the farm! One of our farmers will walk you through the barns to see the cows and explain how we care for our herd. You’ll have a chance to get up close and personal with our baby calves\, and we’ll bring you into the parlour to see the milking in action. Throughout the tour try and spot our mascot\, the real-life ‘Valentina the Heart Cow’! \nThis is a walking tour lasting about 75 minutes. \nPlease dress for the weather (it can get windy) as most of the tour is outside. You will be provided boot/shoe covers that must be worn throughout the tour. \nThe tour is suitable for strollers\, walkers and wheelchairs\, but please be aware there are uneven surfaces. While we love our pets\, the cows sometimes get nervous around them – so unfortunately dogs are not allowed. \nSummitholm is an active working farm. For your safety\, as well as the safety of our staff and animals\, visitors are not allowed to wander the barns unaccompanied. Signing up for one of our guided tours is the best way to see the cows and learn about modern dairy farming. \nChildren under 2 are free.
URL:https://summitstationdairy.com/event/evening-farm-tour-7/
LOCATION:1391 Powerline Road West\, Summit Station Dairy & Creamery\, Lynden\, Ontario\, L0R 1T0\, Canada
CATEGORIES:Guided Farm Tour
ATTACH;FMTTYPE=image/jpeg:https://summitstationdairy.com/wp-content/uploads/2023/10/51488088194_1fb4d227a0_k-e1707438145975.jpg
ORGANIZER;CN="Summit Station Dairy":MAILTO:thefarmers@summitstationdairy.com
END:VEVENT
BEGIN:VEVENT
DTSTART;TZID=America/Toronto:20240824T113000
DTEND;TZID=America/Toronto:20240824T124500
DTSTAMP:20260422T041041
CREATED:20240603T182057Z
LAST-MODIFIED:20240615T153418Z
UID:2838-1724499000-1724503500@summitstationdairy.com
SUMMARY:GUIDED FARM TOUR
DESCRIPTION:Join us on a tour of the farm! One of our farmers will walk you through the barns to see the cows and explain how we care for our herd. You’ll have a chance to get up close and personal with our baby calves\, and we’ll bring you into the parlour to see the milking in action. Throughout the tour try and spot our mascot\, the real-life ‘Valentina the Heart Cow’! \nThis is a walking tour lasting about 75 minutes. \nPlease dress for the weather (cold\, wet\, etc.) as most of the tour is outside. You will be provided boot/shoe covers that must be worn throughout the tour. \nThe tour is suitable for strollers\, walkers and wheelchairs\, but please be aware there are uneven surfaces. While we love our pets\, the cows sometimes get nervous around them – so unfortunately dogs are not allowed. \nSummitholm is an active working farm. For your safety\, as well as the safety of our staff and animals\, visitors are not allowed to wander the barns unaccompanied. Signing up for one of our guided tours is the best way to see the cows and learn about modern dairy farming. \nChildren under 2 are free.
URL:https://summitstationdairy.com/event/guided-farm-tour-45/
LOCATION:1391 Powerline Road West\, Summit Station Dairy & Creamery\, Lynden\, Ontario\, L0R 1T0\, Canada
CATEGORIES:Guided Farm Tour
ATTACH;FMTTYPE=image/jpeg:https://summitstationdairy.com/wp-content/uploads/2023/10/51488088194_1fb4d227a0_k-e1707438145975.jpg
ORGANIZER;CN="Summit Station Dairy":MAILTO:thefarmers@summitstationdairy.com
END:VEVENT
BEGIN:VEVENT
DTSTART;TZID=America/Toronto:20240830T184500
DTEND;TZID=America/Toronto:20240830T201500
DTSTAMP:20260422T041041
CREATED:20240615T162236Z
LAST-MODIFIED:20240615T162236Z
UID:2938-1725043500-1725048900@summitstationdairy.com
SUMMARY:EVENING FARM TOUR
DESCRIPTION:Join us for a summer evening tour of the farm! One of our farmers will walk you through the barns to see the cows and explain how we care for our herd. You’ll have a chance to get up close and personal with our baby calves\, and we’ll bring you into the parlour to see the milking in action. Throughout the tour try and spot our mascot\, the real-life ‘Valentina the Heart Cow’! \nThis is a walking tour lasting about 75 minutes. \nPlease dress for the weather (it can get windy) as most of the tour is outside. You will be provided boot/shoe covers that must be worn throughout the tour. \nThe tour is suitable for strollers\, walkers and wheelchairs\, but please be aware there are uneven surfaces. While we love our pets\, the cows sometimes get nervous around them – so unfortunately dogs are not allowed. \nSummitholm is an active working farm. For your safety\, as well as the safety of our staff and animals\, visitors are not allowed to wander the barns unaccompanied. Signing up for one of our guided tours is the best way to see the cows and learn about modern dairy farming. \nChildren under 2 are free.
URL:https://summitstationdairy.com/event/evening-farm-tour-8/
LOCATION:1391 Powerline Road West\, Summit Station Dairy & Creamery\, Lynden\, Ontario\, L0R 1T0\, Canada
CATEGORIES:Guided Farm Tour
ATTACH;FMTTYPE=image/jpeg:https://summitstationdairy.com/wp-content/uploads/2023/10/51488088194_1fb4d227a0_k-e1707438145975.jpg
ORGANIZER;CN="Summit Station Dairy":MAILTO:thefarmers@summitstationdairy.com
END:VEVENT
BEGIN:VEVENT
DTSTART;TZID=America/Toronto:20240831T113000
DTEND;TZID=America/Toronto:20240831T124500
DTSTAMP:20260422T041041
CREATED:20240603T182847Z
LAST-MODIFIED:20240615T153437Z
UID:2841-1725103800-1725108300@summitstationdairy.com
SUMMARY:GUIDED FARM TOUR
DESCRIPTION:Join us on a tour of the farm! One of our farmers will walk you through the barns to see the cows and explain how we care for our herd. You’ll have a chance to get up close and personal with our baby calves\, and we’ll bring you into the parlour to see the milking in action. Throughout the tour try and spot our mascot\, the real-life ‘Valentina the Heart Cow’! \nThis is a walking tour lasting about 75 minutes. \nPlease dress for the weather (cold\, wet\, etc.) as most of the tour is outside. You will be provided boot/shoe covers that must be worn throughout the tour. \nThe tour is suitable for strollers\, walkers and wheelchairs\, but please be aware there are uneven surfaces. While we love our pets\, the cows sometimes get nervous around them – so unfortunately dogs are not allowed. \nSummitholm is an active working farm. For your safety\, as well as the safety of our staff and animals\, visitors are not allowed to wander the barns unaccompanied. Signing up for one of our guided tours is the best way to see the cows and learn about modern dairy farming. \nChildren under 2 are free.
URL:https://summitstationdairy.com/event/guided-farm-tour-46/
LOCATION:1391 Powerline Road West\, Summit Station Dairy & Creamery\, Lynden\, Ontario\, L0R 1T0\, Canada
CATEGORIES:Guided Farm Tour
ATTACH;FMTTYPE=image/jpeg:https://summitstationdairy.com/wp-content/uploads/2023/11/IMG-20231105-WA0002-e1705521206238.jpg
ORGANIZER;CN="Summit Station Dairy":MAILTO:thefarmers@summitstationdairy.com
END:VEVENT
END:VCALENDAR