BEGIN:VCALENDAR
VERSION:2.0
PRODID:-//Summit Station Dairy - ECPv6.15.13.1//NONSGML v1.0//EN
CALSCALE:GREGORIAN
METHOD:PUBLISH
X-ORIGINAL-URL:https://summitstationdairy.com
X-WR-CALDESC:Events for Summit Station Dairy
REFRESH-INTERVAL;VALUE=DURATION:PT1H
X-Robots-Tag:noindex
X-PUBLISHED-TTL:PT1H
BEGIN:VTIMEZONE
TZID:America/Toronto
BEGIN:DAYLIGHT
TZOFFSETFROM:-0500
TZOFFSETTO:-0400
TZNAME:EDT
DTSTART:20240310T070000
END:DAYLIGHT
BEGIN:STANDARD
TZOFFSETFROM:-0400
TZOFFSETTO:-0500
TZNAME:EST
DTSTART:20241103T060000
END:STANDARD
BEGIN:DAYLIGHT
TZOFFSETFROM:-0500
TZOFFSETTO:-0400
TZNAME:EDT
DTSTART:20250309T070000
END:DAYLIGHT
BEGIN:STANDARD
TZOFFSETFROM:-0400
TZOFFSETTO:-0500
TZNAME:EST
DTSTART:20251102T060000
END:STANDARD
BEGIN:DAYLIGHT
TZOFFSETFROM:-0500
TZOFFSETTO:-0400
TZNAME:EDT
DTSTART:20260308T070000
END:DAYLIGHT
BEGIN:STANDARD
TZOFFSETFROM:-0400
TZOFFSETTO:-0500
TZNAME:EST
DTSTART:20261101T060000
END:STANDARD
END:VTIMEZONE
BEGIN:VEVENT
DTSTART;TZID=America/Toronto:20250201T113000
DTEND;TZID=America/Toronto:20250201T124500
DTSTAMP:20260421T175649
CREATED:20250114T192845Z
LAST-MODIFIED:20250114T192845Z
UID:4793-1738409400-1738413900@summitstationdairy.com
SUMMARY:Guided Farm Tour
DESCRIPTION:Join us on a tour of the farm! One of our farmers will walk you through the barns to see the cows and explain how we care for our herd. You’ll have a chance to get up close and personal with our baby calves\, and we’ll bring you into the parlour to see the milking in action. Throughout the tour try and spot our mascot\, the real-life ‘Valentina the Heart Cow’! \nThis is a walking tour lasting about 75 minutes. \nPlease dress for the weather (cold\, wet\, etc.) as most of the tour is outside. You will be provided boot/shoe covers that must be worn throughout the tour. \nThe tour is suitable for strollers\, walkers and wheelchairs\, but please be aware there are uneven surfaces. While we love our pets\, the cows sometimes get nervous around them – so unfortunately dogs are not allowed. \nSummitholm is an active working farm. For your safety\, as well as the safety of our staff and animals\, visitors are not allowed to wander the barns unaccompanied. Signing up for one of our guided tours is the best way to see the cows and learn about modern dairy farming. \nChildren under 2 are free. \nAll prices are CAD. By completing your purchase\, you are accepting our TERMS & CONDITIONS.
URL:https://summitstationdairy.com/event/guided-farm-tour-66/
LOCATION:1391 Powerline Road West\, Summit Station Dairy & Creamery\, Lynden\, Ontario\, L0R 1T0\, Canada
CATEGORIES:Guided Farm Tour
ATTACH;FMTTYPE=image/jpeg:https://summitstationdairy.com/wp-content/uploads/2024/01/166-GRAND_OPENING_SMALL.jpg
ORGANIZER;CN="Summit Station Dairy":MAILTO:thefarmers@summitstationdairy.com
END:VEVENT
BEGIN:VEVENT
DTSTART;TZID=America/Toronto:20250208T113000
DTEND;TZID=America/Toronto:20250208T124500
DTSTAMP:20260421T175649
CREATED:20250114T193138Z
LAST-MODIFIED:20250114T193138Z
UID:4796-1739014200-1739018700@summitstationdairy.com
SUMMARY:Guided Farm Tour
DESCRIPTION:Join us on a tour of the farm! One of our farmers will walk you through the barns to see the cows and explain how we care for our herd. You’ll have a chance to get up close and personal with our baby calves\, and we’ll bring you into the parlour to see the milking in action. Throughout the tour try and spot our mascot\, the real-life ‘Valentina the Heart Cow’! \nThis is a walking tour lasting about 75 minutes. \nPlease dress for the weather (cold\, wet\, etc.) as most of the tour is outside. You will be provided boot/shoe covers that must be worn throughout the tour. \nThe tour is suitable for strollers\, walkers and wheelchairs\, but please be aware there are uneven surfaces. While we love our pets\, the cows sometimes get nervous around them – so unfortunately dogs are not allowed. \nSummitholm is an active working farm. For your safety\, as well as the safety of our staff and animals\, visitors are not allowed to wander the barns unaccompanied. Signing up for one of our guided tours is the best way to see the cows and learn about modern dairy farming. \nChildren under 2 are free. \nAll prices are CAD. By completing your purchase\, you are accepting our TERMS & CONDITIONS.
URL:https://summitstationdairy.com/event/guided-farm-tour-67/
LOCATION:1391 Powerline Road West\, Summit Station Dairy & Creamery\, Lynden\, Ontario\, L0R 1T0\, Canada
CATEGORIES:Guided Farm Tour
ATTACH;FMTTYPE=image/png:https://summitstationdairy.com/wp-content/uploads/2023/09/Summit-Station-Hero-FAQ-e1705520912367.png
ORGANIZER;CN="Summit Station Dairy":MAILTO:thefarmers@summitstationdairy.com
END:VEVENT
BEGIN:VEVENT
DTSTART;TZID=America/Toronto:20250214T113000
DTEND;TZID=America/Toronto:20250214T124500
DTSTAMP:20260421T175649
CREATED:20250130T205212Z
LAST-MODIFIED:20250130T205212Z
UID:4955-1739532600-1739537100@summitstationdairy.com
SUMMARY:Guided Farm Tour - VALENTINA'S DAY EDITION 🖤
DESCRIPTION:Is that love in the air? 🖤 Join us on a tour of the farm and find out! \nCome celebrate Valentine’s Day with a visit to to the farm to see our HEART COW\, Valentina. \nOne of our farmers will walk you through the barns and explain how we care for our herd. You’ll have a chance to get up close and personal with our baby calves\, and we’ll bring you into the parlour to see the milking in action. \nThis is a walking tour lasting about 75 minutes. By the time you return to the store – the fresh curds will be ready! \nPlease dress for the weather (cold\, wet\, etc.) as most of the tour is outside. You will be provided boot/shoe covers that must be worn throughout the tour. \nThe tour is suitable for strollers\, walkers and wheelchairs\, but please be aware there are uneven surfaces. While we love our pets\, the cows sometimes get nervous around them – so unfortunately dogs are not allowed. \nSummitholm is an active working farm. For your safety\, as well as the safety of our staff and animals\, visitors are not allowed to wander the barns unaccompanied. Signing up for one of our guided tours is the best way to see the cows and learn about modern dairy farming. \nChildren under 2 are free. \nAll prices are CAD. By completing your purchase\, you are accepting our TERMS & CONDITIONS.
URL:https://summitstationdairy.com/event/guided-farm-tour-valentinas-day-edition-%f0%9f%96%a4/
LOCATION:1391 Powerline Road West\, Summit Station Dairy & Creamery\, Lynden\, Ontario\, L0R 1T0\, Canada
CATEGORIES:Guided Farm Tour
ATTACH;FMTTYPE=image/jpeg:https://summitstationdairy.com/wp-content/uploads/2025/01/Resized_20190108_110039_851999628508787-e1738270300780.jpg
ORGANIZER;CN="Summit Station Dairy":MAILTO:thefarmers@summitstationdairy.com
END:VEVENT
BEGIN:VEVENT
DTSTART;TZID=America/Toronto:20250215T113000
DTEND;TZID=America/Toronto:20250215T124500
DTSTAMP:20260421T175649
CREATED:20250114T193324Z
LAST-MODIFIED:20250114T193324Z
UID:4799-1739619000-1739623500@summitstationdairy.com
SUMMARY:Guided Farm Tour
DESCRIPTION:Join us on a tour of the farm! One of our farmers will walk you through the barns to see the cows and explain how we care for our herd. You’ll have a chance to get up close and personal with our baby calves\, and we’ll bring you into the parlour to see the milking in action. Throughout the tour try and spot our mascot\, the real-life ‘Valentina the Heart Cow’! \nThis is a walking tour lasting about 75 minutes. \nPlease dress for the weather (cold\, wet\, etc.) as most of the tour is outside. You will be provided boot/shoe covers that must be worn throughout the tour. \nThe tour is suitable for strollers\, walkers and wheelchairs\, but please be aware there are uneven surfaces. While we love our pets\, the cows sometimes get nervous around them – so unfortunately dogs are not allowed. \nSummitholm is an active working farm. For your safety\, as well as the safety of our staff and animals\, visitors are not allowed to wander the barns unaccompanied. Signing up for one of our guided tours is the best way to see the cows and learn about modern dairy farming. \nChildren under 2 are free. \nAll prices are CAD. By completing your purchase\, you are accepting our TERMS & CONDITIONS.
URL:https://summitstationdairy.com/event/guided-farm-tour-68/
LOCATION:1391 Powerline Road West\, Summit Station Dairy & Creamery\, Lynden\, Ontario\, L0R 1T0\, Canada
CATEGORIES:Guided Farm Tour
ATTACH;FMTTYPE=image/jpeg:https://summitstationdairy.com/wp-content/uploads/2024/10/Jades-daughter-in-Valentina-Vest-e1750289793780.jpg
ORGANIZER;CN="Summit Station Dairy":MAILTO:thefarmers@summitstationdairy.com
END:VEVENT
BEGIN:VEVENT
DTSTART;TZID=America/Toronto:20250222T113000
DTEND;TZID=America/Toronto:20250222T124500
DTSTAMP:20260421T175649
CREATED:20250114T193908Z
LAST-MODIFIED:20250114T193908Z
UID:4802-1740223800-1740228300@summitstationdairy.com
SUMMARY:Guided Farm Tour
DESCRIPTION:Join us on a tour of the farm! One of our farmers will walk you through the barns to see the cows and explain how we care for our herd. You’ll have a chance to get up close and personal with our baby calves\, and we’ll bring you into the parlour to see the milking in action. Throughout the tour try and spot our mascot\, the real-life ‘Valentina the Heart Cow’! \nThis is a walking tour lasting about 75 minutes. \nPlease dress for the weather (cold\, wet\, etc.) as most of the tour is outside. You will be provided boot/shoe covers that must be worn throughout the tour. \nThe tour is suitable for strollers\, walkers and wheelchairs\, but please be aware there are uneven surfaces. While we love our pets\, the cows sometimes get nervous around them – so unfortunately dogs are not allowed. \nSummitholm is an active working farm. For your safety\, as well as the safety of our staff and animals\, visitors are not allowed to wander the barns unaccompanied. Signing up for one of our guided tours is the best way to see the cows and learn about modern dairy farming. \nChildren under 2 are free. \nAll prices are CAD. By completing your purchase\, you are accepting our TERMS & CONDITIONS.
URL:https://summitstationdairy.com/event/guided-farm-tour-69/
LOCATION:1391 Powerline Road West\, Summit Station Dairy & Creamery\, Lynden\, Ontario\, L0R 1T0\, Canada
CATEGORIES:Guided Farm Tour
ATTACH;FMTTYPE=image/jpeg:https://summitstationdairy.com/wp-content/uploads/2023/11/IMG-20231105-WA0002-e1705521206238.jpg
ORGANIZER;CN="Summit Station Dairy":MAILTO:thefarmers@summitstationdairy.com
END:VEVENT
END:VCALENDAR