BEGIN:VCALENDAR
VERSION:2.0
PRODID:-//Summit Station Dairy - ECPv6.15.13.1//NONSGML v1.0//EN
CALSCALE:GREGORIAN
METHOD:PUBLISH
X-WR-CALNAME:Summit Station Dairy
X-ORIGINAL-URL:https://summitstationdairy.com
X-WR-CALDESC:Events for Summit Station Dairy
REFRESH-INTERVAL;VALUE=DURATION:PT1H
X-Robots-Tag:noindex
X-PUBLISHED-TTL:PT1H
BEGIN:VTIMEZONE
TZID:America/Toronto
BEGIN:DAYLIGHT
TZOFFSETFROM:-0500
TZOFFSETTO:-0400
TZNAME:EDT
DTSTART:20250309T070000
END:DAYLIGHT
BEGIN:STANDARD
TZOFFSETFROM:-0400
TZOFFSETTO:-0500
TZNAME:EST
DTSTART:20251102T060000
END:STANDARD
BEGIN:DAYLIGHT
TZOFFSETFROM:-0500
TZOFFSETTO:-0400
TZNAME:EDT
DTSTART:20260308T070000
END:DAYLIGHT
BEGIN:STANDARD
TZOFFSETFROM:-0400
TZOFFSETTO:-0500
TZNAME:EST
DTSTART:20261101T060000
END:STANDARD
BEGIN:DAYLIGHT
TZOFFSETFROM:-0500
TZOFFSETTO:-0400
TZNAME:EDT
DTSTART:20270314T070000
END:DAYLIGHT
BEGIN:STANDARD
TZOFFSETFROM:-0400
TZOFFSETTO:-0500
TZNAME:EST
DTSTART:20271107T060000
END:STANDARD
END:VTIMEZONE
BEGIN:VEVENT
DTSTART;VALUE=DATE:20260907
DTEND;VALUE=DATE:20260908
DTSTAMP:20260420T031057
CREATED:20260217T191708Z
LAST-MODIFIED:20260217T191711Z
UID:8530-1788739200-1788825599@summitstationdairy.com
SUMMARY:CLOSED LABOUR DAY
DESCRIPTION:Please note that Summit Station Dairy is closed on Mondays\, and will not be open on Labour Day. \nREGULAR STORE HOURS \nWED-FRI: 10am to 6pm \nSAT-SUN: 9am to 5pm
URL:https://summitstationdairy.com/event/closed-labour-day/
LOCATION:1391 Powerline Road West\, Summit Station Dairy & Creamery\, Lynden\, Ontario\, L0R 1T0\, Canada
CATEGORIES:Notifications
ATTACH;FMTTYPE=image/png:https://summitstationdairy.com/wp-content/uploads/2024/08/closed-for-holiday-e1724528345898.png
ORGANIZER;CN="Summit Station Dairy":MAILTO:thefarmers@summitstationdairy.com
END:VEVENT
BEGIN:VEVENT
DTSTART;TZID=America/Toronto:20260919T103000
DTEND;TZID=America/Toronto:20260919T153000
DTSTAMP:20260420T031057
CREATED:20260411T135037Z
LAST-MODIFIED:20260411T135039Z
UID:9156-1789813800-1789831800@summitstationdairy.com
SUMMARY:FARM CRAWL 2026
DESCRIPTION:COME EXPLORE HAMILTON’S FARM SCENE! \nFarm Crawl Hamilton is a non-profit organization run by farmers. This rain or shine event provides you with an authentic opportunity to meet the people who make your food and grow wonderful things in our city. Over 10 local farmers are part of the crawl this year – and Summit Station is pleased to be one of them! \nThere will be three FARM CRAWL events throughout the summer – June 20\, July 18\, September 19 \nTickets can be purchased directly from Farm Crawl HERE: BUY FARM CRAWL TICKETS. \nWe will be running mini-farm tours every 30 minutes from 10:30am – 3:30pm*. \nIMPORTANT: Only Farm Crawl ticket holders will be able to enter our dairy barn to see the cows and talk to our farmers. Upon arrival\, please check in at our Farm Crawl Table and obtain the plastic boot covers you will need to wear while in the barn. \n*Hours and tour availability subject to change.
URL:https://summitstationdairy.com/event/farm-crawl-2026-2/
LOCATION:1391 Powerline Road West\, Summit Station Dairy & Creamery\, Lynden\, Ontario\, L0R 1T0\, Canada
CATEGORIES:Community Event,Special Event
ATTACH;FMTTYPE=image/jpeg:https://summitstationdairy.com/wp-content/uploads/2024/06/Farm-Crawl-image-e1717434174493.jpeg
ORGANIZER;CN="Farm Crawl Hamilton":MAILTO:farmcrawl@gmail.com
END:VEVENT
END:VCALENDAR