BEGIN:VCALENDAR
VERSION:2.0
PRODID:-//Summit Station Dairy - ECPv6.15.13.1//NONSGML v1.0//EN
CALSCALE:GREGORIAN
METHOD:PUBLISH
X-ORIGINAL-URL:https://summitstationdairy.com
X-WR-CALDESC:Events for Summit Station Dairy
REFRESH-INTERVAL;VALUE=DURATION:PT1H
X-Robots-Tag:noindex
X-PUBLISHED-TTL:PT1H
BEGIN:VTIMEZONE
TZID:America/Toronto
BEGIN:DAYLIGHT
TZOFFSETFROM:-0500
TZOFFSETTO:-0400
TZNAME:EDT
DTSTART:20240310T070000
END:DAYLIGHT
BEGIN:STANDARD
TZOFFSETFROM:-0400
TZOFFSETTO:-0500
TZNAME:EST
DTSTART:20241103T060000
END:STANDARD
BEGIN:DAYLIGHT
TZOFFSETFROM:-0500
TZOFFSETTO:-0400
TZNAME:EDT
DTSTART:20250309T070000
END:DAYLIGHT
BEGIN:STANDARD
TZOFFSETFROM:-0400
TZOFFSETTO:-0500
TZNAME:EST
DTSTART:20251102T060000
END:STANDARD
BEGIN:DAYLIGHT
TZOFFSETFROM:-0500
TZOFFSETTO:-0400
TZNAME:EDT
DTSTART:20260308T070000
END:DAYLIGHT
BEGIN:STANDARD
TZOFFSETFROM:-0400
TZOFFSETTO:-0500
TZNAME:EST
DTSTART:20261101T060000
END:STANDARD
END:VTIMEZONE
BEGIN:VEVENT
DTSTART;TZID=America/Toronto:20251004T113000
DTEND;TZID=America/Toronto:20251004T124500
DTSTAMP:20260425T212736
CREATED:20250807T202203Z
LAST-MODIFIED:20250807T202203Z
UID:6916-1759577400-1759581900@summitstationdairy.com
SUMMARY:Guided Farm Tour
DESCRIPTION:Join us on a tour of the farm! One of our farmers will walk you through the barns to see the cows and explain how we care for our herd. You’ll have a chance to get up close and personal with our baby calves\, and we’ll bring you into the parlour to see the milking in action. Throughout the tour try and spot our mascot\, the real-life ‘Valentina the Heart Cow’! \nThis is a walking tour lasting about 75 minutes. \nPlease dress for the weather (cold\, wet\, etc.) as most of the tour is outside. You will be provided boot/shoe covers that must be worn throughout the tour. \nThe tour is suitable for strollers\, walkers and wheelchairs\, but please be aware there are uneven surfaces. While we love our pets\, the cows sometimes get nervous around them – so unfortunately dogs are not allowed. \nSummitholm is an active working farm. For your safety\, as well as the safety of our staff and animals\, visitors are not allowed to wander the barns unaccompanied. Signing up for one of our guided tours is the best way to see the cows and learn about modern dairy farming. \nChildren under 2 are free. \nWe ask that you plan to arrive 15 minutes before the start of the tour to ensure you have time to check-in with store staff. \nAll prices are CAD. By completing your purchase\, you are accepting our TERMS & CONDITIONS.
URL:https://summitstationdairy.com/event/guided-farm-tour-101/
LOCATION:1391 Powerline Road West\, Summit Station Dairy & Creamery\, Lynden\, Ontario\, L0R 1T0\, Canada
CATEGORIES:Guided Farm Tour
ATTACH;FMTTYPE=image/jpeg:https://summitstationdairy.com/wp-content/uploads/2024/10/Jades-daughter-in-Valentina-Vest-e1750289793780.jpg
ORGANIZER;CN="Summit Station Dairy":MAILTO:thefarmers@summitstationdairy.com
END:VEVENT
BEGIN:VEVENT
DTSTART;TZID=America/Toronto:20251011T113000
DTEND;TZID=America/Toronto:20251011T124500
DTSTAMP:20260425T212736
CREATED:20250807T202452Z
LAST-MODIFIED:20250807T202452Z
UID:6919-1760182200-1760186700@summitstationdairy.com
SUMMARY:Guided Farm Tour
DESCRIPTION:Join us on a tour of the farm! One of our farmers will walk you through the barns to see the cows and explain how we care for our herd. You’ll have a chance to get up close and personal with our baby calves\, and we’ll bring you into the parlour to see the milking in action. Throughout the tour try and spot our mascot\, the real-life ‘Valentina the Heart Cow’! \nThis is a walking tour lasting about 75 minutes. \nPlease dress for the weather (cold\, wet\, etc.) as most of the tour is outside. You will be provided boot/shoe covers that must be worn throughout the tour. \nThe tour is suitable for strollers\, walkers and wheelchairs\, but please be aware there are uneven surfaces. While we love our pets\, the cows sometimes get nervous around them – so unfortunately dogs are not allowed. \nSummitholm is an active working farm. For your safety\, as well as the safety of our staff and animals\, visitors are not allowed to wander the barns unaccompanied. Signing up for one of our guided tours is the best way to see the cows and learn about modern dairy farming. \nChildren under 2 are free. \nWe ask that you plan to arrive 15 minutes before the start of the tour to ensure you have time to check-in with store staff. \nAll prices are CAD. By completing your purchase\, you are accepting our TERMS & CONDITIONS.
URL:https://summitstationdairy.com/event/guided-farm-tour-102/
LOCATION:1391 Powerline Road West\, Summit Station Dairy & Creamery\, Lynden\, Ontario\, L0R 1T0\, Canada
CATEGORIES:Guided Farm Tour
ATTACH;FMTTYPE=image/jpeg:https://summitstationdairy.com/wp-content/uploads/2023/11/IMG-20231105-WA0002-e1705521206238.jpg
ORGANIZER;CN="Summit Station Dairy":MAILTO:thefarmers@summitstationdairy.com
END:VEVENT
BEGIN:VEVENT
DTSTART;TZID=America/Toronto:20251011T120000
DTEND;TZID=America/Toronto:20251011T130000
DTSTAMP:20260425T212736
CREATED:20241011T144741Z
LAST-MODIFIED:20251007T141917Z
UID:3921-1760184000-1760187600@summitstationdairy.com
SUMMARY:Milk Moustache Contest @ Rockton Fair
DESCRIPTION:Who will have the BEST milk moustache of 2025? \nFind out at Rockton World Fair’s first MILK MOUSTACHE CONTEST! \n12PM – 1pm at the D.A.Campbell Entertainment Centre \nCategories for all ages (and facial hair levels!). Sign up begins at the stage at 11AM. \n➡️ KNOW BEFORE YOU GO – if you’re planning on visiting the Rockton World’s Fair this weekend\, be sure to get your POUTINE at the Rockton Lions Club…the only vendor using our Summit Station curds this year!
URL:https://summitstationdairy.com/event/milk-moustache-contest-rockton-fair/
LOCATION:Rockton World’s Fair\, 812 Old Hwy 8\, Rockton\, Ontario\, L0R1X0\, Canada
CATEGORIES:Community Event
ATTACH;FMTTYPE=image/jpeg:https://summitstationdairy.com/wp-content/uploads/2024/10/moustache-scaled-e1728657856201.jpg
ORGANIZER;CN="Summit Station Dairy":MAILTO:thefarmers@summitstationdairy.com
END:VEVENT
BEGIN:VEVENT
DTSTART;TZID=America/Toronto:20251012T123000
DTEND;TZID=America/Toronto:20251012T134500
DTSTAMP:20260425T212736
CREATED:20251007T141342Z
LAST-MODIFIED:20251007T141342Z
UID:7888-1760272200-1760276700@summitstationdairy.com
SUMMARY:THANKSGIVING GUIDED FARM TOUR
DESCRIPTION:Join us on a tour of the farm! Farmer Dave will walk you through the barns to see the cows and explain how we care for our herd. You’ll have a chance to get up close and personal with our baby calves\, and we’ll bring you into the parlour to see the milking in action. Throughout the tour try and spot our mascot\, the real-life ‘Valentina the Heart Cow’! \nThis is a walking tour lasting about 75 minutes. \nPlease dress for the weather (cold\, wet\, etc.) as most of the tour is outside. You will be provided boot/shoe covers that must be worn throughout the tour. \nThe tour is suitable for strollers\, walkers and wheelchairs\, but please be aware there are uneven surfaces. While we love our pets\, the cows sometimes get nervous around them – so unfortunately dogs are not allowed. \nSummitholm is an active working farm. For your safety\, as well as the safety of our staff and animals\, visitors are not allowed to wander the barns unaccompanied. Signing up for one of our guided tours is the best way to see the cows and learn about modern dairy farming. \nChildren under 2 are free. \nWe ask that you plan to arrive 15 minutes before the start of the tour to ensure you have time to check-in with store staff. \nAll prices are CAD. By completing your purchase\, you are accepting our TERMS & CONDITIONS.
URL:https://summitstationdairy.com/event/thanksgiving-guided-farm-tour/
LOCATION:1391 Powerline Road West\, Summit Station Dairy & Creamery\, Lynden\, Ontario\, L0R 1T0\, Canada
CATEGORIES:Guided Farm Tour
ATTACH;FMTTYPE=image/jpeg:https://summitstationdairy.com/wp-content/uploads/2024/01/166-GRAND_OPENING_SMALL.jpg
ORGANIZER;CN="Summit Station Dairy":MAILTO:thefarmers@summitstationdairy.com
END:VEVENT
BEGIN:VEVENT
DTSTART;VALUE=DATE:20251013
DTEND;VALUE=DATE:20251014
DTSTAMP:20260425T212736
CREATED:20250807T203538Z
LAST-MODIFIED:20250807T203540Z
UID:6931-1760313600-1760399999@summitstationdairy.com
SUMMARY:Closed Thanksgiving Monday
DESCRIPTION:Please note that Summit Station is closed on Thanksgiving Monday. \nHappy Turkey Day!
URL:https://summitstationdairy.com/event/closed-thanksgiving-monday/
LOCATION:Ontario
CATEGORIES:Notifications
ATTACH;FMTTYPE=image/png:https://summitstationdairy.com/wp-content/uploads/2024/08/closed-for-holiday-e1724528345898.png
END:VEVENT
BEGIN:VEVENT
DTSTART;TZID=America/Toronto:20251015T110000
DTEND;TZID=America/Toronto:20251015T121500
DTSTAMP:20260425T212736
CREATED:20251014T145218Z
LAST-MODIFIED:20251014T175755Z
UID:7963-1760526000-1760530500@summitstationdairy.com
SUMMARY:*EXTRA* Guided Farm Tour
DESCRIPTION:Join us on a tour of the farm! One of our farmers will walk you through the barns to see the cows and explain how we care for our herd. You’ll have a chance to get up close and personal with our baby calves\, and we’ll bring you into the parlour to see the milking in action. Throughout the tour try and spot our mascot\, the real-life ‘Valentina the Heart Cow’! \nThis is a walking tour lasting about 75 minutes. \nPlease dress for the weather (cold\, wet\, etc.) as most of the tour is outside. You will be provided boot/shoe covers that must be worn throughout the tour. \nThe tour is suitable for strollers\, walkers and wheelchairs\, but please be aware there are uneven surfaces. While we love our pets\, the cows sometimes get nervous around them – so unfortunately dogs are not allowed. \nSummitholm is an active working farm. For your safety\, as well as the safety of our staff and animals\, visitors are not allowed to wander the barns unaccompanied. Signing up for one of our guided tours is the best way to see the cows and learn about modern dairy farming. \nChildren under 2 are free. \nWe ask that you plan to arrive 15 minutes before the start of the tour to ensure you have time to check-in with store staff. \nAll prices are CAD. By completing your purchase\, you are accepting our TERMS & CONDITIONS.
URL:https://summitstationdairy.com/event/extra-guided-farm-tour-4/
LOCATION:1391 Powerline Road West\, Summit Station Dairy & Creamery\, Lynden\, Ontario\, L0R 1T0\, Canada
CATEGORIES:Guided Farm Tour
ATTACH;FMTTYPE=image/jpeg:https://summitstationdairy.com/wp-content/uploads/2023/10/51488088194_1fb4d227a0_k-e1707438145975.jpg
ORGANIZER;CN="Summit Station Dairy":MAILTO:thefarmers@summitstationdairy.com
END:VEVENT
BEGIN:VEVENT
DTSTART;TZID=America/Toronto:20251018T113000
DTEND;TZID=America/Toronto:20251018T124500
DTSTAMP:20260425T212736
CREATED:20250807T202632Z
LAST-MODIFIED:20250807T202632Z
UID:6923-1760787000-1760791500@summitstationdairy.com
SUMMARY:Guided Farm Tour
DESCRIPTION:Join us on a tour of the farm! One of our farmers will walk you through the barns to see the cows and explain how we care for our herd. You’ll have a chance to get up close and personal with our baby calves\, and we’ll bring you into the parlour to see the milking in action. Throughout the tour try and spot our mascot\, the real-life ‘Valentina the Heart Cow’! \nThis is a walking tour lasting about 75 minutes. \nPlease dress for the weather (cold\, wet\, etc.) as most of the tour is outside. You will be provided boot/shoe covers that must be worn throughout the tour. \nThe tour is suitable for strollers\, walkers and wheelchairs\, but please be aware there are uneven surfaces. While we love our pets\, the cows sometimes get nervous around them – so unfortunately dogs are not allowed. \nSummitholm is an active working farm. For your safety\, as well as the safety of our staff and animals\, visitors are not allowed to wander the barns unaccompanied. Signing up for one of our guided tours is the best way to see the cows and learn about modern dairy farming. \nChildren under 2 are free. \nWe ask that you plan to arrive 15 minutes before the start of the tour to ensure you have time to check-in with store staff. \nAll prices are CAD. By completing your purchase\, you are accepting our TERMS & CONDITIONS.
URL:https://summitstationdairy.com/event/guided-farm-tour-103/
LOCATION:1391 Powerline Road West\, Summit Station Dairy & Creamery\, Lynden\, Ontario\, L0R 1T0\, Canada
CATEGORIES:Guided Farm Tour
ATTACH;FMTTYPE=image/jpeg:https://summitstationdairy.com/wp-content/uploads/2023/11/Farm-Tour-Image-e1724525639907.jpg
ORGANIZER;CN="Summit Station Dairy":MAILTO:thefarmers@summitstationdairy.com
END:VEVENT
BEGIN:VEVENT
DTSTART;TZID=America/Toronto:20251024T113000
DTEND;TZID=America/Toronto:20251024T124500
DTSTAMP:20260425T212736
CREATED:20250903T184114Z
LAST-MODIFIED:20250903T184130Z
UID:7274-1761305400-1761309900@summitstationdairy.com
SUMMARY:School PA Day! Come for a Farm Tour
DESCRIPTION:Kids out of school this Friday? Why not come for a guided tour of the farm 🐮 \nOne of our farmers will walk you through the barns to see the cows and explain how we care for our herd. You’ll have a chance to get up close and personal with our baby calves\, and we’ll bring you into the parlour to see the milking in action. Throughout the tour try and spot our mascot\, the real-life ‘Valentina the Heart Cow’! \nThis is a walking tour lasting about 75 minutes. \nPlease dress for the weather (cold\, wet\, etc.) as most of the tour is outside. You will be provided boot/shoe covers that must be worn throughout the tour. \nThe tour is suitable for strollers\, walkers and wheelchairs\, but please be aware there are uneven surfaces. While we love our pets\, the cows sometimes get nervous around them – so unfortunately dogs are not allowed. \nSummitholm is an active working farm. For your safety\, as well as the safety of our staff and animals\, visitors are not allowed to wander the barns unaccompanied. Signing up for one of our guided tours is the best way to see the cows and learn about modern dairy farming. \nChildren under 2 are free. \nWe ask that you plan to arrive 15 minutes before the start of the tour to ensure you have time to check-in with store staff. \nAll prices are CAD. By completing your purchase\, you are accepting our TERMS & CONDITIONS.
URL:https://summitstationdairy.com/event/school-pa-day-come-for-a-farm-tour/
LOCATION:1391 Powerline Road West\, Summit Station Dairy & Creamery\, Lynden\, Ontario\, L0R 1T0\, Canada
CATEGORIES:Guided Farm Tour
ATTACH;FMTTYPE=image/jpeg:https://summitstationdairy.com/wp-content/uploads/2023/11/IMG-20231105-WA0002-e1705521206238.jpg
ORGANIZER;CN="Summit Station Dairy":MAILTO:thefarmers@summitstationdairy.com
END:VEVENT
BEGIN:VEVENT
DTSTART;TZID=America/Toronto:20251025T113000
DTEND;TZID=America/Toronto:20251025T124500
DTSTAMP:20260425T212736
CREATED:20250807T202741Z
LAST-MODIFIED:20250807T202741Z
UID:6926-1761391800-1761396300@summitstationdairy.com
SUMMARY:Guided Farm Tour
DESCRIPTION:Join us on a tour of the farm! One of our farmers will walk you through the barns to see the cows and explain how we care for our herd. You’ll have a chance to get up close and personal with our baby calves\, and we’ll bring you into the parlour to see the milking in action. Throughout the tour try and spot our mascot\, the real-life ‘Valentina the Heart Cow’! \nThis is a walking tour lasting about 75 minutes. \nPlease dress for the weather (cold\, wet\, etc.) as most of the tour is outside. You will be provided boot/shoe covers that must be worn throughout the tour. \nThe tour is suitable for strollers\, walkers and wheelchairs\, but please be aware there are uneven surfaces. While we love our pets\, the cows sometimes get nervous around them – so unfortunately dogs are not allowed. \nSummitholm is an active working farm. For your safety\, as well as the safety of our staff and animals\, visitors are not allowed to wander the barns unaccompanied. Signing up for one of our guided tours is the best way to see the cows and learn about modern dairy farming. \nChildren under 2 are free. \nWe ask that you plan to arrive 15 minutes before the start of the tour to ensure you have time to check-in with store staff. \nAll prices are CAD. By completing your purchase\, you are accepting our TERMS & CONDITIONS.
URL:https://summitstationdairy.com/event/guided-farm-tour-104/
LOCATION:1391 Powerline Road West\, Summit Station Dairy & Creamery\, Lynden\, Ontario\, L0R 1T0\, Canada
CATEGORIES:Guided Farm Tour
ATTACH;FMTTYPE=image/jpeg:https://summitstationdairy.com/wp-content/uploads/2023/12/BenLoewith_MomandNewborn-e1705521463991.jpg
ORGANIZER;CN="Summit Station Dairy":MAILTO:thefarmers@summitstationdairy.com
END:VEVENT
END:VCALENDAR