BEGIN:VCALENDAR
VERSION:2.0
PRODID:-//Summit Station Dairy - ECPv6.15.13.1//NONSGML v1.0//EN
CALSCALE:GREGORIAN
METHOD:PUBLISH
X-ORIGINAL-URL:https://summitstationdairy.com
X-WR-CALDESC:Events for Summit Station Dairy
REFRESH-INTERVAL;VALUE=DURATION:PT1H
X-Robots-Tag:noindex
X-PUBLISHED-TTL:PT1H
BEGIN:VTIMEZONE
TZID:America/Toronto
BEGIN:DAYLIGHT
TZOFFSETFROM:-0500
TZOFFSETTO:-0400
TZNAME:EDT
DTSTART:20250309T070000
END:DAYLIGHT
BEGIN:STANDARD
TZOFFSETFROM:-0400
TZOFFSETTO:-0500
TZNAME:EST
DTSTART:20251102T060000
END:STANDARD
BEGIN:DAYLIGHT
TZOFFSETFROM:-0500
TZOFFSETTO:-0400
TZNAME:EDT
DTSTART:20260308T070000
END:DAYLIGHT
BEGIN:STANDARD
TZOFFSETFROM:-0400
TZOFFSETTO:-0500
TZNAME:EST
DTSTART:20261101T060000
END:STANDARD
BEGIN:DAYLIGHT
TZOFFSETFROM:-0500
TZOFFSETTO:-0400
TZNAME:EDT
DTSTART:20270314T070000
END:DAYLIGHT
BEGIN:STANDARD
TZOFFSETFROM:-0400
TZOFFSETTO:-0500
TZNAME:EST
DTSTART:20271107T060000
END:STANDARD
END:VTIMEZONE
BEGIN:VEVENT
DTSTART;TZID=America/Toronto:20260807T180000
DTEND;TZID=America/Toronto:20260807T210000
DTSTAMP:20260425T165011
CREATED:20260411T140956Z
LAST-MODIFIED:20260411T140957Z
UID:9168-1786125600-1786136400@summitstationdairy.com
SUMMARY:Friday Nights @ Summit Station 🌅
DESCRIPTION:EXTENDED HOURS: We’re staying open until 9PM every Friday in the summer! \nJoin us every Friday night in July and August for an evening under our pavilion with live music and rotating food truck vendors. \nNo charge. Just bring your happy vibes and spend a few hours off your phone. \nWatch for evening farm tour tickets and ** NEW THIS YEAR** fun workshops in our event room. \nMore details to come!
URL:https://summitstationdairy.com/event/friday-nights-summit-station-%f0%9f%8c%85-6/
LOCATION:1391 Powerline Road West\, Summit Station Dairy & Creamery\, Lynden\, Ontario\, L0R 1T0\, Canada
CATEGORIES:Community Event,Special Event
ATTACH;FMTTYPE=image/jpeg:https://summitstationdairy.com/wp-content/uploads/2024/06/20240625_211338-scaled-e1720064333531.jpg
ORGANIZER;CN="Summit Station Dairy":MAILTO:thefarmers@summitstationdairy.com
END:VEVENT
BEGIN:VEVENT
DTSTART;TZID=America/Toronto:20260814T180000
DTEND;TZID=America/Toronto:20260814T210000
DTSTAMP:20260425T165011
CREATED:20260411T141051Z
LAST-MODIFIED:20260411T141052Z
UID:9170-1786730400-1786741200@summitstationdairy.com
SUMMARY:Friday Nights @ Summit Station 🌅
DESCRIPTION:EXTENDED HOURS: We’re staying open until 9PM every Friday in the summer! \nJoin us every Friday night in July and August for an evening under our pavilion with live music and rotating food truck vendors. \nNo charge. Just bring your happy vibes and spend a few hours off your phone. \nWatch for evening farm tour tickets and ** NEW THIS YEAR** fun workshops in our event room. \nMore details to come!
URL:https://summitstationdairy.com/event/friday-nights-summit-station-%f0%9f%8c%85-7/
LOCATION:1391 Powerline Road West\, Summit Station Dairy & Creamery\, Lynden\, Ontario\, L0R 1T0\, Canada
CATEGORIES:Community Event,Special Event
ATTACH;FMTTYPE=image/jpeg:https://summitstationdairy.com/wp-content/uploads/2024/06/20240625_211338-scaled-e1720064333531.jpg
END:VEVENT
BEGIN:VEVENT
DTSTART;TZID=America/Toronto:20260821T180000
DTEND;TZID=America/Toronto:20260821T210000
DTSTAMP:20260425T165011
CREATED:20260411T141258Z
LAST-MODIFIED:20260411T141259Z
UID:9173-1787335200-1787346000@summitstationdairy.com
SUMMARY:Friday Nights @ Summit Station 🌅
DESCRIPTION:EXTENDED HOURS: We’re staying open until 9PM every Friday in the summer! \nJoin us every Friday night in July and August for an evening under our pavilion with live music and rotating food truck vendors. \nNo charge. Just bring your happy vibes and spend a few hours off your phone. \nWatch for evening farm tour tickets and ** NEW THIS YEAR** fun workshops in our event room. \nMore details to come!
URL:https://summitstationdairy.com/event/friday-nights-summit-station-%f0%9f%8c%85-8/
LOCATION:1391 Powerline Road West\, Summit Station Dairy & Creamery\, Lynden\, Ontario\, L0R 1T0\, Canada
CATEGORIES:Community Event,Special Event
ATTACH;FMTTYPE=image/jpeg:https://summitstationdairy.com/wp-content/uploads/2024/06/20240625_211338-scaled-e1720064333531.jpg
ORGANIZER;CN="Summit Station Dairy":MAILTO:thefarmers@summitstationdairy.com
END:VEVENT
BEGIN:VEVENT
DTSTART;TZID=America/Toronto:20260828T180000
DTEND;TZID=America/Toronto:20260828T210000
DTSTAMP:20260425T165011
CREATED:20260411T141616Z
LAST-MODIFIED:20260411T141800Z
UID:9175-1787940000-1787950800@summitstationdairy.com
SUMMARY:Friday Nights @ Summit Station
DESCRIPTION:EXTENDED HOURS: We’re staying open until 9PM every Friday in the summer! \nJoin us for our final “Friday Night” for an evening under our pavilion with line dancing and a food truck. \nNo charge. Just bring your happy vibes and spend a few hours off your phone. \nWatch for evening farm tour tickets and ** NEW THIS YEAR** fun workshops in our event room. \nMore details to come! \n 
URL:https://summitstationdairy.com/event/friday-nights-summit-station-7/
LOCATION:1391 Powerline Road West\, Summit Station Dairy & Creamery\, Lynden\, Ontario\, L0R 1T0\, Canada
CATEGORIES:Community Event,Special Event
ATTACH;FMTTYPE=image/jpeg:https://summitstationdairy.com/wp-content/uploads/2024/06/20240625_211338-scaled-e1720064333531.jpg
ORGANIZER;CN="Summit Station Dairy":MAILTO:thefarmers@summitstationdairy.com
END:VEVENT
END:VCALENDAR